BEGIN:VCALENDAR
VERSION:2.0
PRODID:-//eventon.com NONSGML v1.0//EN
BEGIN:VEVENT
UID:69e65b6187418
DTSTAMP:20260420T165913
DTSTART:20260606T080000Z
DTEND:20260606T090000Z
TZID:Europe/Zurich
LOCATION:Bibliothek St. Margrethen 
SUMMARY:Buchstart
DESCRIPTION: Buchstart will Eltern dazu anregen\,  mit ihrem Baby aktiv zu kommunizieren und es ab ungefähr sechs Monaten mit Bilderbüchern vertraut zu machen.\nhttps://bib-online.ch/events/buchstart-2/
URL:https://bib-online.ch/events/buchstart-2/
END:VEVENT
END:VCALENDAR