BEGIN:VCALENDAR
VERSION:2.0
PRODID:-//eventon.com NONSGML v1.0//EN
BEGIN:VEVENT
UID:69e65b965c018
DTSTAMP:20260420T170006
DTSTART:20260518T123000Z
DTEND:20260518T143000Z
TZID:Europe/Zurich
LOCATION:
SUMMARY:Krabbelgruppe
DESCRIPTION: Kinder ab Geburt und bis ca. 3 Jahre und deren Begleitpersonen (grössere Geschwister sind auch willkommen) treffen sich in der Bibliothek im Bahnhof. &nbsp;\nhttps://bib-online.ch/events/krabbelgruppe-3/var/ri-2.l-L1
URL:https://bib-online.ch/events/krabbelgruppe-3/var/ri-2.l-L1
END:VEVENT
END:VCALENDAR