BEGIN:VCALENDAR
VERSION:2.0
PRODID:-//eventon.com NONSGML v1.0//EN
BEGIN:VEVENT
UID:69e6afa7d5e06
DTSTAMP:20260420T225847
DTSTART:20261221T130000Z
DTEND:20261221T150000Z
TZID:Europe/Zurich
LOCATION:Bibliothek St. Margrethen 
SUMMARY:Mütter- und Väterberatung
DESCRIPTION: Wir beraten Sie bei Fragen der körperlichen und seelischen Gesundheit (Pflege\,  Ernährung\,  Stillen\,  Entwicklung des Kindes). Wir bieten Unterstützung in der neuen Familiensituation\,  im Gestalten des Alltags und im Erkennen der Bedürfnisse des kleinen Kindes.\nhttps://bib-online.ch/events/muetter-und-vaeterberatung-4/var/ri-11.l-L1
URL:https://bib-online.ch/events/muetter-und-vaeterberatung-4/var/ri-11.l-L1
END:VEVENT
END:VCALENDAR