BEGIN:VCALENDAR
VERSION:2.0
PRODID:-//eventon.com NONSGML v1.0//EN
BEGIN:VEVENT
UID:69e672611f443
DTSTAMP:20260420T183721
DTSTART:20260817T123000Z
DTEND:20260817T143000Z
TZID:Europe/Zurich
LOCATION:
SUMMARY:Krabbelgruppe
DESCRIPTION: Kinder ab Geburt und bis ca. 3 Jahre und deren Begleitpersonen (grössere Geschwister sind auch willkommen) treffen sich in der Bibliothek im Bahnhof. &nbsp;\nhttps://bib-online.ch/events/krabbelgruppe-4/
URL:https://bib-online.ch/events/krabbelgruppe-4/
END:VEVENT
END:VCALENDAR