BEGIN:VCALENDAR
VERSION:2.0
PRODID:-//eventon.com NONSGML v1.0//EN
BEGIN:VEVENT
UID:69e674ad67fee
DTSTAMP:20260420T184709
DTSTART:20260422T170000Z
DTEND:20260422T200000Z
TZID:Europe/Berlin
LOCATION:Bibliothek St. Margrethen 
SUMMARY:Hauptversammlung
DESCRIPTION: Bibliothekarinnen\,  Vorstandskolleginnen\,  Bücherfans\,  Gönner\,  Vereinsunterstützerinnen\,  Buchstützer und Leseverrückte treffen sich zur HV des Vereins Bibliothek St. Margrethen.\nhttps://bib-online.ch/events/hauptversammlung/
URL:https://bib-online.ch/events/hauptversammlung/
END:VEVENT
END:VCALENDAR